Package: lmdme Version: 1.48.0 Command: rm -rf lmdme.buildbin-libdir && mkdir lmdme.buildbin-libdir && F:\biocbuild\bbs-3.20-bioc\R\bin\R.exe CMD INSTALL --build --library=lmdme.buildbin-libdir lmdme_1.48.0.tar.gz StartedAt: 2025-04-01 08:30:15 -0400 (Tue, 01 Apr 2025) EndedAt: 2025-04-01 08:30:37 -0400 (Tue, 01 Apr 2025) EllapsedTime: 22.3 seconds RetCode: 0 Status: OK PackageFile: lmdme_1.48.0.zip PackageFileSize: 734.7 KiB