Package: lmdme Version: 1.48.0 Command: rm -rf lmdme.buildbin-libdir && mkdir lmdme.buildbin-libdir && /Users/biocbuild/BBS/utils/build-universal.sh lmdme_1.48.0.tar.gz /Library/Frameworks/R.framework/Resources/bin/R lmdme.buildbin-libdir StartedAt: 2025-04-02 14:57:04 -0400 (Wed, 02 Apr 2025) EndedAt: 2025-04-02 14:57:11 -0400 (Wed, 02 Apr 2025) EllapsedTime: 6.8 seconds RetCode: 0 Status: OK PackageFile: lmdme_1.48.0.tgz PackageFileSize: 729.5 KiB