Package: lisaClust Version: 1.14.4 Command: /home/biocbuild/R/R/bin/R CMD INSTALL lisaClust StartedAt: 2025-03-31 21:10:01 -0000 (Mon, 31 Mar 2025) EndedAt: 2025-03-31 21:10:02 -0000 (Mon, 31 Mar 2025) EllapsedTime: 1.0 seconds RetCode: 1 Status: ERROR