Package: lisaClust Version: 1.14.4 Command: F:\biocbuild\bbs-3.20-bioc\R\bin\R.exe CMD INSTALL lisaClust StartedAt: 2025-03-31 17:04:36 -0400 (Mon, 31 Mar 2025) EndedAt: 2025-03-31 17:05:10 -0400 (Mon, 31 Mar 2025) EllapsedTime: 33.6 seconds RetCode: 0 Status: OK