Package: lipidr Version: 2.20.0 Command: /Library/Frameworks/R.framework/Resources/bin/R CMD check --install=check:lipidr.install-out.txt --library=/Library/Frameworks/R.framework/Resources/library --no-vignettes --timings lipidr_2.20.0.tar.gz StartedAt: 2025-04-01 04:56:53 -0400 (Tue, 01 Apr 2025) EndedAt: 2025-04-01 05:06:23 -0400 (Tue, 01 Apr 2025) EllapsedTime: 569.8 seconds RetCode: 0 Status: OK CheckDir: lipidr.Rcheck Warnings: 0