Package: lionessR Version: 1.20.0 Command: /home/biocbuild/bbs-3.20-bioc/R/bin/R CMD INSTALL lionessR StartedAt: 2025-03-31 15:19:20 -0400 (Mon, 31 Mar 2025) EndedAt: 2025-03-31 15:19:22 -0400 (Mon, 31 Mar 2025) EllapsedTime: 2.0 seconds RetCode: 0 Status: OK