Package: lionessR Version: 1.20.0 Command: /Library/Frameworks/R.framework/Resources/bin/R CMD build --keep-empty-dirs --no-resave-data lionessR StartedAt: 2025-03-31 19:41:52 -0400 (Mon, 31 Mar 2025) EndedAt: 2025-03-31 19:42:27 -0400 (Mon, 31 Mar 2025) EllapsedTime: 34.7 seconds RetCode: 0 Status: OK PackageFile: lionessR_1.20.0.tar.gz PackageFileSize: 2.851 MiB