Package: lineagespot Version: 1.10.0 Command: /Library/Frameworks/R.framework/Resources/bin/R CMD INSTALL lineagespot StartedAt: 2025-03-31 16:08:20 -0400 (Mon, 31 Mar 2025) EndedAt: 2025-03-31 16:09:04 -0400 (Mon, 31 Mar 2025) EllapsedTime: 44.8 seconds RetCode: 0 Status: OK