Package: limpca Version: 1.2.0 Command: /Library/Frameworks/R.framework/Resources/bin/R CMD build --keep-empty-dirs --no-resave-data limpca StartedAt: 2025-03-31 19:41:23 -0400 (Mon, 31 Mar 2025) EndedAt: 2025-03-31 19:45:32 -0400 (Mon, 31 Mar 2025) EllapsedTime: 248.7 seconds RetCode: 0 Status: OK PackageFile: limpca_1.2.0.tar.gz PackageFileSize: 5.168 MiB