Package: limpca Version: 1.2.0 Command: rm -rf limpca.buildbin-libdir && mkdir limpca.buildbin-libdir && /Users/biocbuild/BBS/utils/build-universal.sh limpca_1.2.0.tar.gz /Library/Frameworks/R.framework/Resources/bin/R limpca.buildbin-libdir StartedAt: 2025-04-02 14:56:15 -0400 (Wed, 02 Apr 2025) EndedAt: 2025-04-02 14:56:47 -0400 (Wed, 02 Apr 2025) EllapsedTime: 31.8 seconds RetCode: 0 Status: OK PackageFile: limpca_1.2.0.tgz PackageFileSize: 5.05 MiB