Package: limmaGUI Version: 1.82.0 Command: /home/biocbuild/R/R/bin/R CMD check --install=check:limmaGUI.install-out.txt --library=/home/biocbuild/R/R/site-library --no-vignettes --timings limmaGUI_1.82.0.tar.gz StartedAt: 2025-04-01 07:49:11 -0000 (Tue, 01 Apr 2025) EndedAt: 2025-04-01 07:50:09 -0000 (Tue, 01 Apr 2025) EllapsedTime: 58.1 seconds RetCode: 0 Status: WARNINGS CheckDir: limmaGUI.Rcheck Warnings: 1