Package: limmaGUI Version: 1.82.0 Command: F:\biocbuild\bbs-3.20-bioc\R\bin\R.exe CMD check --no-multiarch --install=check:limmaGUI.install-out.txt --library=F:\biocbuild\bbs-3.20-bioc\R\library --no-vignettes --timings limmaGUI_1.82.0.tar.gz StartedAt: 2025-04-01 02:55:16 -0400 (Tue, 01 Apr 2025) EndedAt: 2025-04-01 02:56:25 -0400 (Tue, 01 Apr 2025) EllapsedTime: 69.7 seconds RetCode: 0 Status: OK CheckDir: limmaGUI.Rcheck Warnings: 0