Package: limmaGUI Version: 1.82.0 Command: rm -rf limmaGUI.buildbin-libdir && mkdir limmaGUI.buildbin-libdir && F:\biocbuild\bbs-3.20-bioc\R\bin\R.exe CMD INSTALL --build --library=limmaGUI.buildbin-libdir limmaGUI_1.82.0.tar.gz StartedAt: 2025-04-01 08:29:56 -0400 (Tue, 01 Apr 2025) EndedAt: 2025-04-01 08:30:55 -0400 (Tue, 01 Apr 2025) EllapsedTime: 59.2 seconds RetCode: 0 Status: OK PackageFile: limmaGUI_1.82.0.zip PackageFileSize: 5.898 MiB