Package: limmaGUI Version: 1.82.0 Command: /Library/Frameworks/R.framework/Resources/bin/R CMD INSTALL limmaGUI StartedAt: 2025-03-31 15:13:07 -0400 (Mon, 31 Mar 2025) EndedAt: 2025-03-31 15:13:30 -0400 (Mon, 31 Mar 2025) EllapsedTime: 23.7 seconds RetCode: 0 Status: OK