Package: limma Version: 3.62.2 Command: /home/biocbuild/R/R/bin/R CMD build --keep-empty-dirs --no-resave-data limma StartedAt: 2025-04-01 00:27:03 -0000 (Tue, 01 Apr 2025) EndedAt: 2025-04-01 00:27:34 -0000 (Tue, 01 Apr 2025) EllapsedTime: 31.0 seconds RetCode: 0 Status: OK PackageFile: limma_3.62.2.tar.gz PackageFileSize: 2.71 MiB