Package: limma Version: 3.62.2 Command: F:\biocbuild\bbs-3.20-bioc\R\bin\R.exe CMD INSTALL limma StartedAt: 2025-03-31 15:26:53 -0400 (Mon, 31 Mar 2025) EndedAt: 2025-03-31 15:28:40 -0400 (Mon, 31 Mar 2025) EllapsedTime: 107.3 seconds RetCode: 0 Status: OK