Package: limma Version: 3.62.2 Command: /Library/Frameworks/R.framework/Resources/bin/R CMD INSTALL limma StartedAt: 2025-03-31 15:12:40 -0400 (Mon, 31 Mar 2025) EndedAt: 2025-03-31 15:13:01 -0400 (Mon, 31 Mar 2025) EllapsedTime: 21.1 seconds RetCode: 0 Status: OK