Package: lfa Version: 2.6.0 Command: chmod a+r lfa -R && F:\biocbuild\bbs-3.20-bioc\R\bin\R.exe CMD build --keep-empty-dirs --no-resave-data lfa StartedAt: 2025-03-31 19:50:15 -0400 (Mon, 31 Mar 2025) EndedAt: 2025-03-31 19:50:40 -0400 (Mon, 31 Mar 2025) EllapsedTime: 25.0 seconds RetCode: 0 Status: OK PackageFile: lfa_2.6.0.tar.gz PackageFileSize: 341.9 KiB