Package: lfa Version: 2.6.0 Command: rm -rf lfa.buildbin-libdir && mkdir lfa.buildbin-libdir && F:\biocbuild\bbs-3.20-bioc\R\bin\R.exe CMD INSTALL --build --library=lfa.buildbin-libdir lfa_2.6.0.tar.gz StartedAt: 2025-04-01 08:29:49 -0400 (Tue, 01 Apr 2025) EndedAt: 2025-04-01 08:30:15 -0400 (Tue, 01 Apr 2025) EllapsedTime: 26.3 seconds RetCode: 0 Status: OK PackageFile: lfa_2.6.0.zip PackageFileSize: 521.8 KiB