Package: lfa Version: 2.6.0 Command: /Library/Frameworks/R.framework/Resources/bin/R CMD INSTALL lfa StartedAt: 2025-03-31 15:05:34 -0400 (Mon, 31 Mar 2025) EndedAt: 2025-03-31 15:06:20 -0400 (Mon, 31 Mar 2025) EllapsedTime: 46.0 seconds RetCode: 0 Status: OK