Package: les Version: 1.56.0 Command: /Library/Frameworks/R.framework/Resources/bin/R CMD check --install=check:les.install-out.txt --library=/Library/Frameworks/R.framework/Resources/library --no-vignettes --timings les_1.56.0.tar.gz StartedAt: 2025-04-01 04:54:32 -0400 (Tue, 01 Apr 2025) EndedAt: 2025-04-01 04:56:26 -0400 (Tue, 01 Apr 2025) EllapsedTime: 114.8 seconds RetCode: 0 Status: OK CheckDir: les.Rcheck Warnings: 0