Package: les Version: 1.56.0 Command: /Library/Frameworks/R.framework/Resources/bin/R CMD build --keep-empty-dirs --no-resave-data les StartedAt: 2025-03-31 19:40:51 -0400 (Mon, 31 Mar 2025) EndedAt: 2025-03-31 19:41:35 -0400 (Mon, 31 Mar 2025) EllapsedTime: 44.7 seconds RetCode: 0 Status: OK PackageFile: les_1.56.0.tar.gz PackageFileSize: 448.9 KiB