Package: les Version: 1.56.0 Command: /Library/Frameworks/R.framework/Resources/bin/R CMD INSTALL les StartedAt: 2025-03-31 15:08:59 -0400 (Mon, 31 Mar 2025) EndedAt: 2025-03-31 15:09:03 -0400 (Mon, 31 Mar 2025) EllapsedTime: 4.7 seconds RetCode: 0 Status: OK