Package: lemur Version: 1.4.0 Command: /home/biocbuild/R/R/bin/R CMD check --install=check:lemur.install-out.txt --library=/home/biocbuild/R/R/site-library --no-vignettes --timings lemur_1.4.0.tar.gz StartedAt: 2025-04-01 07:48:21 -0000 (Tue, 01 Apr 2025) EndedAt: 2025-04-01 07:53:40 -0000 (Tue, 01 Apr 2025) EllapsedTime: 318.5 seconds RetCode: 0 Status: WARNINGS CheckDir: lemur.Rcheck Warnings: 1