Package: lemur Version: 1.4.0 Command: /home/biocbuild/R/R/bin/R CMD build --keep-empty-dirs --no-resave-data lemur StartedAt: 2025-04-01 00:26:27 -0000 (Tue, 01 Apr 2025) EndedAt: 2025-04-01 00:28:36 -0000 (Tue, 01 Apr 2025) EllapsedTime: 129.0 seconds RetCode: 0 Status: OK PackageFile: lemur_1.4.0.tar.gz PackageFileSize: 3.332 MiB