Package: lemur Version: 1.4.0 Command: F:\biocbuild\bbs-3.20-bioc\R\bin\R.exe CMD INSTALL lemur StartedAt: 2025-03-31 16:33:36 -0400 (Mon, 31 Mar 2025) EndedAt: 2025-03-31 16:37:22 -0400 (Mon, 31 Mar 2025) EllapsedTime: 226.8 seconds RetCode: 0 Status: OK