Package: lemur Version: 1.4.0 Command: /Library/Frameworks/R.framework/Resources/bin/R CMD check --install=check:lemur.install-out.txt --library=/Library/Frameworks/R.framework/Resources/library --no-vignettes --timings lemur_1.4.0.tar.gz StartedAt: 2025-04-01 23:09:26 -0400 (Tue, 01 Apr 2025) EndedAt: 2025-04-01 23:14:23 -0400 (Tue, 01 Apr 2025) EllapsedTime: 296.4 seconds RetCode: 0 Status: WARNINGS CheckDir: lemur.Rcheck Warnings: 1