Package: lefser Version: 1.16.2 Command: /home/biocbuild/R/R/bin/R CMD check --install=check:lefser.install-out.txt --library=/home/biocbuild/R/R/site-library --no-vignettes --timings lefser_1.16.2.tar.gz StartedAt: 2025-04-01 07:48:18 -0000 (Tue, 01 Apr 2025) EndedAt: 2025-04-01 07:53:24 -0000 (Tue, 01 Apr 2025) EllapsedTime: 305.5 seconds RetCode: 0 Status: WARNINGS CheckDir: lefser.Rcheck Warnings: 1