Package: lefser Version: 1.16.2 Command: /home/biocbuild/R/R/bin/R CMD build --keep-empty-dirs --no-resave-data lefser StartedAt: 2025-04-01 00:26:25 -0000 (Tue, 01 Apr 2025) EndedAt: 2025-04-01 00:27:24 -0000 (Tue, 01 Apr 2025) EllapsedTime: 59.0 seconds RetCode: 0 Status: OK PackageFile: lefser_1.16.2.tar.gz PackageFileSize: 557.6 KiB