Package: lefser Version: 1.16.2 Command: rm -rf lefser.buildbin-libdir && mkdir lefser.buildbin-libdir && F:\biocbuild\bbs-3.20-bioc\R\bin\R.exe CMD INSTALL --build --library=lefser.buildbin-libdir lefser_1.16.2.tar.gz StartedAt: 2025-04-01 08:29:34 -0400 (Tue, 01 Apr 2025) EndedAt: 2025-04-01 08:30:13 -0400 (Tue, 01 Apr 2025) EllapsedTime: 38.7 seconds RetCode: 0 Status: OK PackageFile: lefser_1.16.2.zip PackageFileSize: 577.5 KiB