Package: lefser Version: 1.16.2 Command: /home/biocbuild/bbs-3.20-bioc/R/bin/R CMD INSTALL lefser StartedAt: 2025-03-31 15:47:04 -0400 (Mon, 31 Mar 2025) EndedAt: 2025-03-31 15:47:26 -0400 (Mon, 31 Mar 2025) EllapsedTime: 22.6 seconds RetCode: 0 Status: OK