Package: lefser Version: 1.16.2 Command: /home/biocbuild/bbs-3.20-bioc/R/bin/R CMD check --install=check:lefser.install-out.txt --library=/home/biocbuild/bbs-3.20-bioc/R/site-library --timings lefser_1.16.2.tar.gz StartedAt: 2025-03-31 23:24:07 -0400 (Mon, 31 Mar 2025) EndedAt: 2025-03-31 23:28:30 -0400 (Mon, 31 Mar 2025) EllapsedTime: 262.3 seconds RetCode: 0 Status: WARNINGS CheckDir: lefser.Rcheck Warnings: 1