Package: lefser Version: 1.16.2 Command: rm -rf lefser.buildbin-libdir && mkdir lefser.buildbin-libdir && /Users/biocbuild/BBS/utils/build-universal.sh lefser_1.16.2.tar.gz /Library/Frameworks/R.framework/Resources/bin/R lefser.buildbin-libdir StartedAt: 2025-04-01 12:08:08 -0400 (Tue, 01 Apr 2025) EndedAt: 2025-04-01 12:09:02 -0400 (Tue, 01 Apr 2025) EllapsedTime: 53.6 seconds RetCode: 0 Status: OK PackageFile: lefser_1.16.2.tgz PackageFileSize: 667.6 KiB