Package: lefser Version: 1.16.2 Command: /Library/Frameworks/R.framework/Resources/bin/R CMD INSTALL lefser StartedAt: 2025-03-31 17:21:26 -0400 (Mon, 31 Mar 2025) EndedAt: 2025-03-31 17:21:54 -0400 (Mon, 31 Mar 2025) EllapsedTime: 28.5 seconds RetCode: 0 Status: OK