Package: lefser Version: 1.16.2 Command: /Library/Frameworks/R.framework/Resources/bin/R CMD check --install=check:lefser.install-out.txt --library=/Library/Frameworks/R.framework/Resources/library --no-vignettes --timings lefser_1.16.2.tar.gz StartedAt: 2025-04-01 23:09:09 -0400 (Tue, 01 Apr 2025) EndedAt: 2025-04-01 23:13:40 -0400 (Tue, 01 Apr 2025) EllapsedTime: 270.6 seconds RetCode: 0 Status: WARNINGS CheckDir: lefser.Rcheck Warnings: 1