Package: lefser Version: 1.16.2 Command: /Library/Frameworks/R.framework/Resources/bin/R CMD build --keep-empty-dirs --no-resave-data lefser StartedAt: 2025-04-01 02:00:40 -0400 (Tue, 01 Apr 2025) EndedAt: 2025-04-01 02:01:37 -0400 (Tue, 01 Apr 2025) EllapsedTime: 56.4 seconds RetCode: 0 Status: OK PackageFile: lefser_1.16.2.tar.gz PackageFileSize: 613.2 KiB