Package: lapmix Version: 1.72.0 Command: rm -rf lapmix.buildbin-libdir && mkdir lapmix.buildbin-libdir && F:\biocbuild\bbs-3.20-bioc\R\bin\R.exe CMD INSTALL --build --library=lapmix.buildbin-libdir lapmix_1.72.0.tar.gz StartedAt: 2025-04-01 08:29:21 -0400 (Tue, 01 Apr 2025) EndedAt: 2025-04-01 08:29:31 -0400 (Tue, 01 Apr 2025) EllapsedTime: 9.4 seconds RetCode: 0 Status: OK PackageFile: lapmix_1.72.0.zip PackageFileSize: 276.8 KiB