Package: lapmix Version: 1.72.0 Command: /home/biocbuild/bbs-3.20-bioc/R/bin/R CMD check --install=check:lapmix.install-out.txt --library=/home/biocbuild/bbs-3.20-bioc/R/site-library --timings lapmix_1.72.0.tar.gz StartedAt: 2025-03-31 23:23:14 -0400 (Mon, 31 Mar 2025) EndedAt: 2025-03-31 23:23:39 -0400 (Mon, 31 Mar 2025) EllapsedTime: 25.0 seconds RetCode: 0 Status: OK CheckDir: lapmix.Rcheck Warnings: 0