Package: lapmix Version: 1.72.0 Command: /Library/Frameworks/R.framework/Resources/bin/R CMD build --keep-empty-dirs --no-resave-data lapmix StartedAt: 2025-04-01 02:00:01 -0400 (Tue, 01 Apr 2025) EndedAt: 2025-04-01 02:00:11 -0400 (Tue, 01 Apr 2025) EllapsedTime: 10.2 seconds RetCode: 0 Status: OK PackageFile: lapmix_1.72.0.tar.gz PackageFileSize: 349.6 KiB