Package: koinar Version: 1.0.2 Command: /Library/Frameworks/R.framework/Resources/bin/R CMD INSTALL koinar StartedAt: 2025-03-31 15:19:57 -0400 (Mon, 31 Mar 2025) EndedAt: 2025-03-31 15:20:00 -0400 (Mon, 31 Mar 2025) EllapsedTime: 2.4 seconds RetCode: 0 Status: OK