Package: koinar Version: 1.0.2 Command: /Library/Frameworks/R.framework/Resources/bin/R CMD build --keep-empty-dirs --no-resave-data koinar StartedAt: 2025-04-01 01:58:47 -0400 (Tue, 01 Apr 2025) EndedAt: 2025-04-01 01:59:36 -0400 (Tue, 01 Apr 2025) EllapsedTime: 49.0 seconds RetCode: 0 Status: OK PackageFile: koinar_1.0.2.tar.gz PackageFileSize: 1.188 MiB