Package: kmcut Version: 1.0.0 Command: /Library/Frameworks/R.framework/Resources/bin/R CMD check --install=check:kmcut.install-out.txt --library=/Library/Frameworks/R.framework/Resources/library --no-vignettes --timings kmcut_1.0.0.tar.gz StartedAt: 2025-04-01 04:50:40 -0400 (Tue, 01 Apr 2025) EndedAt: 2025-04-01 04:55:49 -0400 (Tue, 01 Apr 2025) EllapsedTime: 309.6 seconds RetCode: 0 Status: OK CheckDir: kmcut.Rcheck Warnings: 0