Package: kmcut Version: 1.0.0 Command: /Library/Frameworks/R.framework/Resources/bin/R CMD build --keep-empty-dirs --no-resave-data kmcut StartedAt: 2025-03-31 19:39:48 -0400 (Mon, 31 Mar 2025) EndedAt: 2025-03-31 19:41:12 -0400 (Mon, 31 Mar 2025) EllapsedTime: 83.3 seconds RetCode: 0 Status: OK PackageFile: kmcut_1.0.0.tar.gz PackageFileSize: 1.259 MiB