Package: kissDE Version: 1.26.0 Command: /Library/Frameworks/R.framework/Resources/bin/R CMD check --install=check:kissDE.install-out.txt --library=/Library/Frameworks/R.framework/Resources/library --no-vignettes --timings kissDE_1.26.0.tar.gz StartedAt: 2025-04-01 04:49:44 -0400 (Tue, 01 Apr 2025) EndedAt: 2025-04-01 05:03:15 -0400 (Tue, 01 Apr 2025) EllapsedTime: 810.9 seconds RetCode: 0 Status: OK CheckDir: kissDE.Rcheck Warnings: 0