Package: keggorthology Version: 2.58.0 Command: chmod a+r keggorthology -R && F:\biocbuild\bbs-3.20-bioc\R\bin\R.exe CMD build --keep-empty-dirs --no-resave-data keggorthology StartedAt: 2025-03-31 19:48:29 -0400 (Mon, 31 Mar 2025) EndedAt: 2025-03-31 19:49:10 -0400 (Mon, 31 Mar 2025) EllapsedTime: 40.6 seconds RetCode: 0 Status: OK PackageFile: keggorthology_2.58.0.tar.gz PackageFileSize: 655.8 KiB