Package: keggorthology Version: 2.58.0 Command: /home/biocbuild/bbs-3.20-bioc/R/bin/R CMD check --install=check:keggorthology.install-out.txt --library=/home/biocbuild/bbs-3.20-bioc/R/site-library --timings keggorthology_2.58.0.tar.gz StartedAt: 2025-03-31 23:21:38 -0400 (Mon, 31 Mar 2025) EndedAt: 2025-03-31 23:23:14 -0400 (Mon, 31 Mar 2025) EllapsedTime: 96.1 seconds RetCode: 0 Status: OK CheckDir: keggorthology.Rcheck Warnings: 0