Package: keggorthology Version: 2.58.0 Command: /Library/Frameworks/R.framework/Resources/bin/R CMD INSTALL keggorthology StartedAt: 2025-03-31 15:29:35 -0400 (Mon, 31 Mar 2025) EndedAt: 2025-03-31 15:30:02 -0400 (Mon, 31 Mar 2025) EllapsedTime: 27.3 seconds RetCode: 0 Status: OK