Package: keggorthology Version: 2.58.0 Command: /Library/Frameworks/R.framework/Resources/bin/R CMD build --keep-empty-dirs --no-resave-data keggorthology StartedAt: 2025-03-31 19:39:17 -0400 (Mon, 31 Mar 2025) EndedAt: 2025-03-31 19:40:05 -0400 (Mon, 31 Mar 2025) EllapsedTime: 48.4 seconds RetCode: 0 Status: OK PackageFile: keggorthology_2.58.0.tar.gz PackageFileSize: 787.8 KiB