Package: kebabs Version: 1.40.0 Command: /home/biocbuild/R/R/bin/R CMD INSTALL kebabs StartedAt: 2025-03-31 20:20:30 -0000 (Mon, 31 Mar 2025) EndedAt: 2025-03-31 20:22:57 -0000 (Mon, 31 Mar 2025) EllapsedTime: 147.2 seconds RetCode: 0 Status: OK