Package: kebabs Version: 1.40.0 Command: /home/biocbuild/R/R/bin/R CMD build --keep-empty-dirs --no-resave-data kebabs StartedAt: 2025-04-01 00:24:55 -0000 (Tue, 01 Apr 2025) EndedAt: 2025-04-01 00:30:17 -0000 (Tue, 01 Apr 2025) EllapsedTime: 322.2 seconds RetCode: 0 Status: OK PackageFile: kebabs_1.40.0.tar.gz PackageFileSize: 2.25 MiB